BEGIN:VCALENDAR
VERSION:2.0
PRODID:-//eventon.com NONSGML v1.0//EN
CALSCALE:GREGORIAN
METHOD:PUBLISH
BEGIN:VEVENT
UID:69e890ff57a3b
DTSTAMP:20260422T091231Z
DTSTART:20240328T170000Z
DTEND:20240511T220000Z
LOCATION:
SUMMARY:The Plateau Jump House Fundraiser 2024
DESCRIPTION:Coming Soon! The Plateau Jump House\,  the Comox Valley&#8217;s
  very own indoor Gravity Park\,  will opening in Winter 2024. They are curr
 ently running a raffle raising funds for YANA with an amazing grand prize o
 f a Chromag Juice 20&#8243; bike! Tickets go on sale March 28th and are 5 f
 or[..]\nhttps://www.yanacomoxvalley.com/community-events/the-plateau-jump-h
 ouse/
URL:https://www.yanacomoxvalley.com/community-events/the-plateau-jump-house/
END:VEVENT
END:VCALENDAR