BEGIN:VCALENDAR
VERSION:2.0
PRODID:-//eventon.com NONSGML v1.0//EN
CALSCALE:GREGORIAN
METHOD:PUBLISH
BEGIN:VEVENT
UID:69e82c2039635
DTSTAMP:20260422T020208Z
DTSTART:20260401T160000Z
DTEND:20260422T160000Z
LOCATION:
SUMMARY:Valley Vonka 2026
DESCRIPTION:For up-to-date information on Valley Vonka chocolate bar availa
 bility\,  please contact the Comox Valley Record or Hot Chocolates.  .The 
 Comox Valley Record is back again with the sweetest contest of 2026. Presen
 ted by The Record\,  Hot Chocolates and Sure Copy Courtenay\,  this year’
 s Valley Vonka contest is sponsored by Peninsula[..]\nhttps://www.yanacomox
 valley.com/community-events/valley-vonka-2026/
URL:https://www.yanacomoxvalley.com/community-events/valley-vonka-2026/
END:VEVENT
END:VCALENDAR